BEGIN:VCALENDAR
VERSION:2.0
PRODID:-//ODTÜ Kaynak Teknolojisi ve Tahribatsız Muayene Araştırma / Uygulama Merkezi - ECPv6.3.7//NONSGML v1.0//EN
CALSCALE:GREGORIAN
METHOD:PUBLISH
X-WR-CALNAME:ODTÜ Kaynak Teknolojisi ve Tahribatsız Muayene Araştırma / Uygulama Merkezi
X-ORIGINAL-URL:https://demo.montarist.com
X-WR-CALDESC:ODTÜ Kaynak Teknolojisi ve Tahribatsız Muayene Araştırma / Uygulama Merkezi için etkinlikler
REFRESH-INTERVAL;VALUE=DURATION:PT1H
X-Robots-Tag:noindex
X-PUBLISHED-TTL:PT1H
BEGIN:VTIMEZONE
TZID:Europe/Moscow
BEGIN:STANDARD
TZOFFSETFROM:+0300
TZOFFSETTO:+0300
TZNAME:MSK
DTSTART:20240101T000000
END:STANDARD
END:VTIMEZONE
BEGIN:VEVENT
DTSTART;VALUE=DATE:20240415
DTEND;VALUE=DATE:20240420
DTSTAMP:20260425T134149
CREATED:20240416T065757Z
LAST-MODIFIED:20240429T213151Z
UID:3371-1713139200-1713571199@demo.montarist.com
SUMMARY:1. ve 2. SEVİYE GÖRSEL MUAYENE KURSU (YÜZYÜZE)
DESCRIPTION:Bu formu bitirebilmek için tarayıcınızda JavaScript'i etkinleştirin.Adı Soyadı *AdSoyadTC Kimlik No *Lisans Mühendislik Dalı *Mezun Olduğunuz Üniversite *Mezuniyet Yılı *İkamet Ettiğiniz Şehir *Telefon *E-posta *Mesajınız (varsa)Gönder
URL:https://demo.montarist.com/egitim/1-ve-2-seviye-gorsel-muayene-kursu-yuzyuze/
CATEGORIES:Görsel Muayene
ATTACH;FMTTYPE=image/png:https://demo.montarist.com/wp-content/uploads/2024/04/GM-1-ve-2-kurs.png
END:VEVENT
END:VCALENDAR